BEGIN:VCALENDAR
VERSION:2.0
PRODID:-//Sankalpa Ayurveda College - ECPv6.15.20//NONSGML v1.0//EN
CALSCALE:GREGORIAN
METHOD:PUBLISH
X-ORIGINAL-URL:https://sankalpaayurvedacollege.com
X-WR-CALDESC:Events for Sankalpa Ayurveda College
REFRESH-INTERVAL;VALUE=DURATION:PT1H
X-Robots-Tag:noindex
X-PUBLISHED-TTL:PT1H
BEGIN:VTIMEZONE
TZID:UTC
BEGIN:STANDARD
TZOFFSETFROM:+0000
TZOFFSETTO:+0000
TZNAME:UTC
DTSTART:20240101T000000
END:STANDARD
END:VTIMEZONE
BEGIN:VEVENT
DTSTART;TZID=UTC:20250328T130000
DTEND;TZID=UTC:20250328T160000
DTSTAMP:20260425T182259
CREATED:20250127T191712Z
LAST-MODIFIED:20250225T153746Z
UID:6049-1743166800-1743177600@sankalpaayurvedacollege.com
SUMMARY:Open middag | Chakra Master Class
DESCRIPTION:https://sankalpaayurvedacollege.com/wp-content/uploads/2025/01/Ayurveda-Toolbox-cards.mp4\n🌟 Doe mee aan een Transformatieve Chakra Masterclass tijdens onze open middag! 🌟 \n📅 Datum: 28 maart\n🕒 Tijd: 13:00 – 16:00\n📍 Locatie: Van Beverningkstraat 118\, Den Haag \nOntdek de diepgaande wereld van chakra’s in onze exclusieve 2-uur durende masterclass tijdens de open middag van onze Ayurveda school. Duik diep in de emotionele\, fysieke en spirituele dimensies van de chakra’s en leer hoe je ze kunt balanceren vanuit Ayurvedisch\, Yogisch en Tantrisch perspectief. \n✨ Hoogtepunten van de Masterclass (14:00 – 16:00):\n– Begrip van Chakra’s:Verken de zeven chakra’s en hun invloed op je emotionele en fysieke welzijn.\n– Ayurvedische Inzichten:Leer hoe Ayurveda chakra’s bekijkt en de rol van dosha’s in het behouden van balans.\n– Yogische Praktijken:Ontdek yogatechnieken om je chakra’s te activeren en harmoniseren.\n– Tantrische Wijsheid:Ontdek de tantrische benadering van chakraheling en energiestroom.\n– Praktische Balanceringstips:Krijg praktische tools en oefeningen om in je dagelijks leven te integreren voor holistisch welzijn. \n🕒 Programma Schema:\n– 13:00 – 14:00: Welkom & Introductie van Onze School\n– 14:00 – 16:00: Chakra Masterclass\n– 16:00 – 16:30: Ontmoet & Groet met Onze Instructeurs \nDit is een gratis evenement en iedereen is welkom! Of je nu nieuw bent in Ayurveda of je begrip wilt verdiepen\, deze masterclass is perfect voor jou. Mis deze kans niet om in contact te komen met gelijkgestemden en de helende kracht van chakra’s te verkennen. \n👉 Meld je nu aan  om je plek te reserveren en een reis van zelfontdekking en balans te beginnen. We kijken ernaar uit je te verwelkomen in onze levendige gemeenschap! \n#ChakraHealing #Ayurveda #Yoga #Tantra #OpenDag #DenHaag #HolistischWelzijn #GratisMasterclass \n 
URL:https://sankalpaayurvedacollege.com/event/open-middag/
LOCATION:Ayurveda College Europe\, van Beverningkstraat 118\, Den Haag\, Zuid Holland\, 2585 VK\, Netherlands
CATEGORIES:Ayurveda Practitioner,Ayurveda Therapeut,Grondbeginselen Ayurvedische geneeskunde,Open dag
ATTACH;FMTTYPE=image/png:https://sankalpaayurvedacollege.com/wp-content/uploads/2025/01/Introductie-tot-Ayurveda-met-Riim-Lagerwerf-10.png
ORGANIZER;CN="Ayurveda College Europe":MAILTO:info@ayurvedacollegeeurope.com
END:VEVENT
END:VCALENDAR